BEGIN:VCALENDAR
VERSION:2.0
PRODID:-//eventon.com NONSGML v1.0//EN
CALSCALE:GREGORIAN
METHOD:PUBLISH
BEGIN:VEVENT
UID:69e74316b8534
DTSTAMP:20260421T092750Z
DTSTART:20250201T093000Z
DTEND:20250201T150000Z
LOCATION:The Gunn Club Carrow Rd\,  Norwich NR1 1HU\,  UK
SUMMARY:Norfolk Card Show 🇬🇧
DESCRIPTION:\nhttps://sammelkarte.at/veranstaltungen/norfolk-card-show-%f0%
 9f%87%ac%f0%9f%87%a7/
URL:https://sammelkarte.at/veranstaltungen/norfolk-card-show-%f0%9f%87%ac%f0%9f%87%a7/
END:VEVENT
END:VCALENDAR