BEGIN:VCALENDAR
VERSION:2.0
PRODID:-//eventon.com NONSGML v1.0//EN
CALSCALE:GREGORIAN
METHOD:PUBLISH
BEGIN:VEVENT
UID:69ec154609253
DTSTAMP:20260425T011342Z
DTSTART:20250531T080000Z
DTEND:20250531T140000Z
LOCATION:Büki Muvelodesi Es\,  Sportkozpont\,  Konyvtar Eotvos Utca 11\,  9737 Bük
SUMMARY:Sportkarten Expo Bük 🇭🇺
DESCRIPTION:Am Samstag\,  den 31. Mai in Bük (Ungarn) Sportkarten Expo! Gr
 enzübergang Lutzmannsburg nur ca. 15 Minuten\,  Ödenburg(Sopron) ca. 40 M
 inuten\,  zum Beispiel Oberpullendorf 30 Minuten! Wir freuen uns sehr\,  we
 nn Du kommst! Speisen und Getränke sind vor Ort erhältlich! Für Tischres
 ervierung oder mehr Info bitte Pm! Tisch ist kostenlos für[..]\nhttps://sa
 mmelkarte.at/veranstaltungen/sportkarten-expo-buek-%f0%9f%87%ad%f0%9f%87%ba
 /
URL:https://sammelkarte.at/veranstaltungen/sportkarten-expo-buek-%f0%9f%87%ad%f0%9f%87%ba/
END:VEVENT
END:VCALENDAR