BEGIN:VCALENDAR
VERSION:2.0
PRODID:-//eventon.com NONSGML v1.0//EN
CALSCALE:GREGORIAN
METHOD:PUBLISH
BEGIN:VEVENT
UID:69e73305648e4
DTSTAMP:20260421T081917Z
DTSTART:20250516
DTEND:20250517
LOCATION:Vinzirast Mittendrin Währinger Str. 19\,  1090 Wien
SUMMARY:Viennageddon
DESCRIPTION:VIENNAGEDDON 2025 – DAS MAGIC-SPEKTAKEL IN WIEN! 📆 16. –
  18. Mai 2025📍 Wien\,  Österreich Mach deine Oldschool- und Premodern-D
 ecks startklar\,  denn diesmal legen wir noch eine Schippe drauf! Beim Vien
 nageddon 2025 erwarten dich nicht nur epische Matches\,  sondern auch die 
 sterreichische Premodern-Meisterschaft! Alle Infos zu Turnieren und Side-E
 vents findest[..]\nhttps://sammelkarte.at/veranstaltungen/viennageddon/
URL:https://sammelkarte.at/veranstaltungen/viennageddon/
END:VEVENT
END:VCALENDAR